BEGIN:VCALENDAR
VERSION:2.0
PRODID:-//Tukios.com/
BEGIN:VEVENT
UID:272a329a-a2fe-47e1-acf9-562ceafc163e@www.heathfuneralhome.com
DTSTAMP:20260420T195839Z
DTSTART:20260422T140000Z
DTEND:20260422T150000Z
SUMMARY:Public Visitation
DESCRIPTION:
URL:https://www.heathfuneralhome.com/obituaries/lisa-cooper
LOCATION:Heath Funeral Home 321 West Garland PO Box 357 Paragould AR 
	72450
GEO:36.0539604;-90.4899282
END:VEVENT
END:VCALENDAR