BEGIN:VCALENDAR
VERSION:2.0
PRODID:-//Tukios.com/
BEGIN:VEVENT
UID:45846d14-8cc4-4b1a-beda-755473ac8d59@www.heathfuneralhome.com
DTSTAMP:20260420T195705Z
DTSTART:20260422T150000Z
DTEND:20260422T160000Z
SUMMARY:Funeral Service
DESCRIPTION:
URL:https://www.heathfuneralhome.com/obituaries/lisa-cooper
LOCATION:Heath Funeral Home 321 West Garland PO Box 357 Paragould AR 
	72450
GEO:36.0539604;-90.4899282
END:VEVENT
END:VCALENDAR