BEGIN:VCALENDAR
VERSION:2.0
PRODID:-//Tukios.com/
BEGIN:VEVENT
UID:f29665fc-718e-476f-8b51-4bcf166a510a@www.heathfuneralhome.com
DTSTAMP:20260421T013109Z
DTSTART:20260424T190000Z
DTEND:20260424T200000Z
SUMMARY:Memorial Service
DESCRIPTION:
URL:https://www.heathfuneralhome.com/obituaries/james-coffman
LOCATION:Heath Funeral Home 321 West Garland PO Box 357 Paragould AR 
	72450
GEO:36.0535144;-90.4899098
END:VEVENT
END:VCALENDAR